BEGIN:VCALENDAR
VERSION:2.0
PRODID:-//Victoria Bar Association - ECPv6.15.20//NONSGML v1.0//EN
CALSCALE:GREGORIAN
METHOD:PUBLISH
X-WR-CALNAME:Victoria Bar Association
X-ORIGINAL-URL:https://vicbar.ca
X-WR-CALDESC:Events for Victoria Bar Association
REFRESH-INTERVAL;VALUE=DURATION:PT1H
X-Robots-Tag:noindex
X-PUBLISHED-TTL:PT1H
BEGIN:VTIMEZONE
TZID:America/Vancouver
BEGIN:DAYLIGHT
TZOFFSETFROM:-0800
TZOFFSETTO:-0700
TZNAME:PDT
DTSTART:20250309T100000
END:DAYLIGHT
BEGIN:STANDARD
TZOFFSETFROM:-0700
TZOFFSETTO:-0800
TZNAME:PST
DTSTART:20251102T090000
END:STANDARD
BEGIN:DAYLIGHT
TZOFFSETFROM:-0800
TZOFFSETTO:-0700
TZNAME:PDT
DTSTART:20260308T100000
END:DAYLIGHT
BEGIN:STANDARD
TZOFFSETFROM:-0700
TZOFFSETTO:-0800
TZNAME:PST
DTSTART:20261101T090000
END:STANDARD
BEGIN:DAYLIGHT
TZOFFSETFROM:-0800
TZOFFSETTO:-0700
TZNAME:PDT
DTSTART:20270314T100000
END:DAYLIGHT
BEGIN:STANDARD
TZOFFSETFROM:-0700
TZOFFSETTO:-0800
TZNAME:PST
DTSTART:20271107T090000
END:STANDARD
END:VTIMEZONE
BEGIN:VEVENT
DTSTART;TZID=America/Vancouver:20260304T173000
DTEND;TZID=America/Vancouver:20260304T203000
DTSTAMP:20260423T063416
CREATED:20251217T014436Z
LAST-MODIFIED:20260219T191655Z
UID:10000178-1772645400-1772656200@vicbar.ca
SUMMARY:VBA Benji Quiz Night - March 4\, 2026
DESCRIPTION:***SOLD OUT – 1 singles ticket left! *** \nVictoria Bar Association Quiz Night featuring Quiz Master Benji \n \n  \nThe VBA is pleased to be hosting a Quiz Night with the legendary Quiz Master Benji Duke. If you are ready for a rematch or you sadly missed our last Quiz Night here’s your chance to show your amazing skills.  The Quiz Night is based on general knowledge and fun puzzles (so no\, you won’t be asked about obscure trust cases). \nQuiz teams will each have 4 players. You can choose your team or we can place you on a team. Come join us again or come anew to take on our last VBA Quiz Masters… see you there! \nNote that an appetizer buffet is included in the ticket price\, and drinks will be available for purchase. \nAll players must be members of the VBA to attend. You can sign up here: https://vicbar.ca/membership-join/ \nThe Details \nWhen: Wednesday March 4th\, 2026 \nDoors open/socializing/sizing up the competition: 5:30 \nFood: 6:00 \nTrivia: 6:30-8:30 \nWhere: The Maple Room at the Sticky Wicket \nPrice: $35 per player / $140 per team \nWinners will not only get bragging rights – but there are cool prizes on the line\, including but not limited to the coveted VBA Swag! \nTickets: \nIMPORTANT NOTE: When you purchase your ticket\, select whether you have a team or if you would like to be assigned to a team. If you have a team\, please list the players in the field indicated. \nTo secure your spot\, you now have two options: \n\nPreferred: Make an online payment here.  Payment can be through PayPal\, or\, by scrolling down on the PayPal screen\, by credit card. Firms can register multiple attendees with one transaction.\n\n  \n\nBy Snail Mail:  Please email the names of your registrants to Sofia.Green@gov.bc.ca and send a cheque payable to the Victoria Bar Association to Sofia’s attention at the following address: Crown Counsel\, 3rd Floor 940 Blanshard St. Victoria BC V8W 3E6
URL:https://vicbar.ca/event/vba-benji-quiz-night-march-4-2026/
LOCATION:The Sticky Wicket – Maple Room\, 919 Douglas St\, Victoria\, BC\, V8W 2C2\, Canada
END:VEVENT
END:VCALENDAR