BEGIN:VCALENDAR
VERSION:2.0
PRODID:-//Victoria Bar Association - ECPv6.15.20//NONSGML v1.0//EN
CALSCALE:GREGORIAN
METHOD:PUBLISH
X-ORIGINAL-URL:https://vicbar.ca
X-WR-CALDESC:Events for Victoria Bar Association
REFRESH-INTERVAL;VALUE=DURATION:PT1H
X-Robots-Tag:noindex
X-PUBLISHED-TTL:PT1H
BEGIN:VTIMEZONE
TZID:America/Vancouver
BEGIN:DAYLIGHT
TZOFFSETFROM:-0800
TZOFFSETTO:-0700
TZNAME:PDT
DTSTART:20220313T100000
END:DAYLIGHT
BEGIN:STANDARD
TZOFFSETFROM:-0700
TZOFFSETTO:-0800
TZNAME:PST
DTSTART:20221106T090000
END:STANDARD
BEGIN:DAYLIGHT
TZOFFSETFROM:-0800
TZOFFSETTO:-0700
TZNAME:PDT
DTSTART:20230312T100000
END:DAYLIGHT
BEGIN:STANDARD
TZOFFSETFROM:-0700
TZOFFSETTO:-0800
TZNAME:PST
DTSTART:20231105T090000
END:STANDARD
BEGIN:DAYLIGHT
TZOFFSETFROM:-0800
TZOFFSETTO:-0700
TZNAME:PDT
DTSTART:20240310T100000
END:DAYLIGHT
BEGIN:STANDARD
TZOFFSETFROM:-0700
TZOFFSETTO:-0800
TZNAME:PST
DTSTART:20241103T090000
END:STANDARD
BEGIN:DAYLIGHT
TZOFFSETFROM:-0800
TZOFFSETTO:-0700
TZNAME:PDT
DTSTART:20250309T100000
END:DAYLIGHT
BEGIN:STANDARD
TZOFFSETFROM:-0700
TZOFFSETTO:-0800
TZNAME:PST
DTSTART:20251102T090000
END:STANDARD
END:VTIMEZONE
BEGIN:VEVENT
DTSTART;TZID=America/Vancouver:20241022T170000
DTEND;TZID=America/Vancouver:20241022T200000
DTSTAMP:20260423T175027
CREATED:20240808T192355Z
LAST-MODIFIED:20240808T192355Z
UID:10000137-1729616400-1729627200@vicbar.ca
SUMMARY:Legal Ethics for Younger Lawyers Part 2
DESCRIPTION:
URL:https://vicbar.ca/event/legal-ethics-for-younger-lawyers-part-2/
LOCATION:Barrister’s Lounge – Victoria Law Courts\, 850 Burdett Avenue\, Victoria\, BC\, V8W 1B4\, Canada
END:VEVENT
BEGIN:VEVENT
DTSTART;TZID=America/Vancouver:20240919T170000
DTEND;TZID=America/Vancouver:20240919T200000
DTSTAMP:20260423T175028
CREATED:20240808T192317Z
LAST-MODIFIED:20240808T192317Z
UID:10000136-1726765200-1726776000@vicbar.ca
SUMMARY:Legal Ethics for Younger Lawyers Part 1
DESCRIPTION:
URL:https://vicbar.ca/event/legal-ethics-for-younger-lawyers-part-1/
LOCATION:Barrister’s Lounge – Victoria Law Courts\, 850 Burdett Avenue\, Victoria\, BC\, V8W 1B4\, Canada
END:VEVENT
BEGIN:VEVENT
DTSTART;TZID=America/Vancouver:20231114T170000
DTEND;TZID=America/Vancouver:20231114T190000
DTSTAMP:20260423T175028
CREATED:20230417T184037Z
LAST-MODIFIED:20230417T184037Z
UID:10000102-1699981200-1699988400@vicbar.ca
SUMMARY:Inns of Court - Professionalism and Ethics for Junior Lawyers
DESCRIPTION:2023 Inns of Court Series – Professionalism and Ethics for Junior Counsel – Hosted by Sean Finn Featuring Various Local Jurists \nThe Victoria Bar Association (“VBA”) is grateful to Sean Finn and Monique Dull for hosting a dinner series for articled students and junior lawyers with less than five (5) years of practice regarding issues of professionalism and ethics in the practice of law. \nThese sessions are designed to be “roundtable” discussions with senior lawyers acting as facilitators rather than lecturing on these topics. The intention is to give articled students and junior counsel a forum within which to discuss the challenges that arise in our day-to-day practice as well as hear how others deal with these sometimes difficult and stressful issues. \nAt the beginning of the program\, learners will be provided with a copy of Chief Justice McEachern’s 2003 paper Ethical and Professional Responsibilities. Each session will focus on a different chapter from this paper. \nDates \nThis year\, we will host two sessions in the spring and two more in the fall on the following dates between 5PM and 7PM: \n\nTuesday\, April 18th\, 2023\nTuesday\, May 16th\, 2023\nTuesday\, October 17th\, 2023\nTuesday\, November 14th\, 2023\n\nLocation \nThe Barristers’ Lounge in the 5th floor courthouse library located at 850 Burdett Street. \nCost \nThis program will be offered at no cost to articled students and junior lawyers with less than five (5) years of practice who are members of the VBA. A light catered meal will be served at each session. \nProfessional Development Credits \nEach session offers 1.5 hours of professional development credits. \nHow to Participate \nOnce you have paid your VBA membership fee (VBA registration can be completed here: https://vicbar.ca/membership-join/)\, please email Sean Finn at sfinn@jonesemery.com to register for this Inns of Court series. \nA valid security card is needed to access the courthouse afterhours\, so please visit the sheriff’s office at the courthouse to obtain at least two weeks beforehand. \nHow to get CPD Credit \nTo claim your CPD credits\, please: \n\nFind Law Society “Continuing Professional Development”\nSelect “Member Portal”\nEnter you information and the select ‘Login’\nUnder “Education” select “Continuing Professional Development (CPD)”\nType the group study name of “Inns of Court – Victoria” into the “Course/Group Study” name box (leave dates out as this is set up with a date range).\nSelect “Inns of Court Victoria Course (36 Credits) Jan.1 – December 31\, 2023” or something similar as the name is undergoing a slight change.\nDO NOT TYPE IN THE NAME OF THIS COURSE WHEN APPLYING FOR CREDITS. YOU WILL NOT FIND IT. YOU DO NOT NEED THE NAME IN ORDER TO CLAIM YOUR 2 HOURS OF CREDIT.\nUnder “Record your CPD hours” type ‘1.5’\nUnder “Completion Date” type in the date you took the session.\nSelect the “Get Credit” Button 
URL:https://vicbar.ca/event/inns-of-court-professionalism-and-ethics-for-junior-lawyers/2023-11-14/
LOCATION:Barrister’s Lounge – Victoria Law Courts\, 850 Burdett Avenue\, Victoria\, BC\, V8W 1B4\, Canada
END:VEVENT
BEGIN:VEVENT
DTSTART;TZID=America/Vancouver:20231017T170000
DTEND;TZID=America/Vancouver:20231017T190000
DTSTAMP:20260423T175028
CREATED:20230417T184037Z
LAST-MODIFIED:20230417T184037Z
UID:10000101-1697562000-1697569200@vicbar.ca
SUMMARY:Inns of Court - Professionalism and Ethics for Junior Lawyers
DESCRIPTION:2023 Inns of Court Series – Professionalism and Ethics for Junior Counsel – Hosted by Sean Finn Featuring Various Local Jurists \nThe Victoria Bar Association (“VBA”) is grateful to Sean Finn and Monique Dull for hosting a dinner series for articled students and junior lawyers with less than five (5) years of practice regarding issues of professionalism and ethics in the practice of law. \nThese sessions are designed to be “roundtable” discussions with senior lawyers acting as facilitators rather than lecturing on these topics. The intention is to give articled students and junior counsel a forum within which to discuss the challenges that arise in our day-to-day practice as well as hear how others deal with these sometimes difficult and stressful issues. \nAt the beginning of the program\, learners will be provided with a copy of Chief Justice McEachern’s 2003 paper Ethical and Professional Responsibilities. Each session will focus on a different chapter from this paper. \nDates \nThis year\, we will host two sessions in the spring and two more in the fall on the following dates between 5PM and 7PM: \n\nTuesday\, April 18th\, 2023\nTuesday\, May 16th\, 2023\nTuesday\, October 17th\, 2023\nTuesday\, November 14th\, 2023\n\nLocation \nThe Barristers’ Lounge in the 5th floor courthouse library located at 850 Burdett Street. \nCost \nThis program will be offered at no cost to articled students and junior lawyers with less than five (5) years of practice who are members of the VBA. A light catered meal will be served at each session. \nProfessional Development Credits \nEach session offers 1.5 hours of professional development credits. \nHow to Participate \nOnce you have paid your VBA membership fee (VBA registration can be completed here: https://vicbar.ca/membership-join/)\, please email Sean Finn at sfinn@jonesemery.com to register for this Inns of Court series. \nA valid security card is needed to access the courthouse afterhours\, so please visit the sheriff’s office at the courthouse to obtain at least two weeks beforehand. \nHow to get CPD Credit \nTo claim your CPD credits\, please: \n\nFind Law Society “Continuing Professional Development”\nSelect “Member Portal”\nEnter you information and the select ‘Login’\nUnder “Education” select “Continuing Professional Development (CPD)”\nType the group study name of “Inns of Court – Victoria” into the “Course/Group Study” name box (leave dates out as this is set up with a date range).\nSelect “Inns of Court Victoria Course (36 Credits) Jan.1 – December 31\, 2023” or something similar as the name is undergoing a slight change.\nDO NOT TYPE IN THE NAME OF THIS COURSE WHEN APPLYING FOR CREDITS. YOU WILL NOT FIND IT. YOU DO NOT NEED THE NAME IN ORDER TO CLAIM YOUR 2 HOURS OF CREDIT.\nUnder “Record your CPD hours” type ‘1.5’\nUnder “Completion Date” type in the date you took the session.\nSelect the “Get Credit” Button 
URL:https://vicbar.ca/event/inns-of-court-professionalism-and-ethics-for-junior-lawyers/2023-10-17/
LOCATION:Barrister’s Lounge – Victoria Law Courts\, 850 Burdett Avenue\, Victoria\, BC\, V8W 1B4\, Canada
END:VEVENT
BEGIN:VEVENT
DTSTART;TZID=America/Vancouver:20230516T170000
DTEND;TZID=America/Vancouver:20230516T190000
DTSTAMP:20260423T175028
CREATED:20230417T184037Z
LAST-MODIFIED:20230417T184037Z
UID:10000100-1684256400-1684263600@vicbar.ca
SUMMARY:Inns of Court - Professionalism and Ethics for Junior Lawyers
DESCRIPTION:2023 Inns of Court Series – Professionalism and Ethics for Junior Counsel – Hosted by Sean Finn Featuring Various Local Jurists \nThe Victoria Bar Association (“VBA”) is grateful to Sean Finn and Monique Dull for hosting a dinner series for articled students and junior lawyers with less than five (5) years of practice regarding issues of professionalism and ethics in the practice of law. \nThese sessions are designed to be “roundtable” discussions with senior lawyers acting as facilitators rather than lecturing on these topics. The intention is to give articled students and junior counsel a forum within which to discuss the challenges that arise in our day-to-day practice as well as hear how others deal with these sometimes difficult and stressful issues. \nAt the beginning of the program\, learners will be provided with a copy of Chief Justice McEachern’s 2003 paper Ethical and Professional Responsibilities. Each session will focus on a different chapter from this paper. \nDates \nThis year\, we will host two sessions in the spring and two more in the fall on the following dates between 5PM and 7PM: \n\nTuesday\, April 18th\, 2023\nTuesday\, May 16th\, 2023\nTuesday\, October 17th\, 2023\nTuesday\, November 14th\, 2023\n\nLocation \nThe Barristers’ Lounge in the 5th floor courthouse library located at 850 Burdett Street. \nCost \nThis program will be offered at no cost to articled students and junior lawyers with less than five (5) years of practice who are members of the VBA. A light catered meal will be served at each session. \nProfessional Development Credits \nEach session offers 1.5 hours of professional development credits. \nHow to Participate \nOnce you have paid your VBA membership fee (VBA registration can be completed here: https://vicbar.ca/membership-join/)\, please email Sean Finn at sfinn@jonesemery.com to register for this Inns of Court series. \nA valid security card is needed to access the courthouse afterhours\, so please visit the sheriff’s office at the courthouse to obtain at least two weeks beforehand. \nHow to get CPD Credit \nTo claim your CPD credits\, please: \n\nFind Law Society “Continuing Professional Development”\nSelect “Member Portal”\nEnter you information and the select ‘Login’\nUnder “Education” select “Continuing Professional Development (CPD)”\nType the group study name of “Inns of Court – Victoria” into the “Course/Group Study” name box (leave dates out as this is set up with a date range).\nSelect “Inns of Court Victoria Course (36 Credits) Jan.1 – December 31\, 2023” or something similar as the name is undergoing a slight change.\nDO NOT TYPE IN THE NAME OF THIS COURSE WHEN APPLYING FOR CREDITS. YOU WILL NOT FIND IT. YOU DO NOT NEED THE NAME IN ORDER TO CLAIM YOUR 2 HOURS OF CREDIT.\nUnder “Record your CPD hours” type ‘1.5’\nUnder “Completion Date” type in the date you took the session.\nSelect the “Get Credit” Button 
URL:https://vicbar.ca/event/inns-of-court-professionalism-and-ethics-for-junior-lawyers/2023-05-16/
LOCATION:Barrister’s Lounge – Victoria Law Courts\, 850 Burdett Avenue\, Victoria\, BC\, V8W 1B4\, Canada
END:VEVENT
BEGIN:VEVENT
DTSTART;TZID=America/Vancouver:20230418T170000
DTEND;TZID=America/Vancouver:20230418T190000
DTSTAMP:20260423T175028
CREATED:20230417T184037Z
LAST-MODIFIED:20230417T184037Z
UID:10000099-1681837200-1681844400@vicbar.ca
SUMMARY:Inns of Court - Professionalism and Ethics for Junior Lawyers
DESCRIPTION:2023 Inns of Court Series – Professionalism and Ethics for Junior Counsel – Hosted by Sean Finn Featuring Various Local Jurists \nThe Victoria Bar Association (“VBA”) is grateful to Sean Finn and Monique Dull for hosting a dinner series for articled students and junior lawyers with less than five (5) years of practice regarding issues of professionalism and ethics in the practice of law. \nThese sessions are designed to be “roundtable” discussions with senior lawyers acting as facilitators rather than lecturing on these topics. The intention is to give articled students and junior counsel a forum within which to discuss the challenges that arise in our day-to-day practice as well as hear how others deal with these sometimes difficult and stressful issues. \nAt the beginning of the program\, learners will be provided with a copy of Chief Justice McEachern’s 2003 paper Ethical and Professional Responsibilities. Each session will focus on a different chapter from this paper. \nDates \nThis year\, we will host two sessions in the spring and two more in the fall on the following dates between 5PM and 7PM: \n\nTuesday\, April 18th\, 2023\nTuesday\, May 16th\, 2023\nTuesday\, October 17th\, 2023\nTuesday\, November 14th\, 2023\n\nLocation \nThe Barristers’ Lounge in the 5th floor courthouse library located at 850 Burdett Street. \nCost \nThis program will be offered at no cost to articled students and junior lawyers with less than five (5) years of practice who are members of the VBA. A light catered meal will be served at each session. \nProfessional Development Credits \nEach session offers 1.5 hours of professional development credits. \nHow to Participate \nOnce you have paid your VBA membership fee (VBA registration can be completed here: https://vicbar.ca/membership-join/)\, please email Sean Finn at sfinn@jonesemery.com to register for this Inns of Court series. \nA valid security card is needed to access the courthouse afterhours\, so please visit the sheriff’s office at the courthouse to obtain at least two weeks beforehand. \nHow to get CPD Credit \nTo claim your CPD credits\, please: \n\nFind Law Society “Continuing Professional Development”\nSelect “Member Portal”\nEnter you information and the select ‘Login’\nUnder “Education” select “Continuing Professional Development (CPD)”\nType the group study name of “Inns of Court – Victoria” into the “Course/Group Study” name box (leave dates out as this is set up with a date range).\nSelect “Inns of Court Victoria Course (36 Credits) Jan.1 – December 31\, 2023” or something similar as the name is undergoing a slight change.\nDO NOT TYPE IN THE NAME OF THIS COURSE WHEN APPLYING FOR CREDITS. YOU WILL NOT FIND IT. YOU DO NOT NEED THE NAME IN ORDER TO CLAIM YOUR 2 HOURS OF CREDIT.\nUnder “Record your CPD hours” type ‘1.5’\nUnder “Completion Date” type in the date you took the session.\nSelect the “Get Credit” Button 
URL:https://vicbar.ca/event/inns-of-court-professionalism-and-ethics-for-junior-lawyers/2023-04-18/
LOCATION:Barrister’s Lounge – Victoria Law Courts\, 850 Burdett Avenue\, Victoria\, BC\, V8W 1B4\, Canada
END:VEVENT
BEGIN:VEVENT
DTSTART;TZID=America/Vancouver:20230329T163000
DTEND;TZID=America/Vancouver:20230329T193000
DTSTAMP:20260423T175028
CREATED:20230227T192640Z
LAST-MODIFIED:20230312T182956Z
UID:10000092-1680107400-1680118200@vicbar.ca
SUMMARY:Inns of Court - Tips and Tricks for Building a Resilient Legal Career (March 29\, 2023)
DESCRIPTION:The Inns of Court Victoria is pleased to announce that it will be hosting a 2-hour in person seminar on the topic of “Tips and Tricks for Building a Resilient Legal Career”. \nPanelists: \nDel Friday (she/her) serves as the Legal Community Liaison & Educator at the Courthouse Library. \nMs. Friday is a practicing wills & estates lawyer with over 20 years of experience. She leads the Library’s Training & Outreach Program and loves to connect lawyers\, notaries\, court advocates\, and other legal professionals to the legal resources and training offered at the library. \nClare Asquith Finegan (she/her) serves as the Librarian for the New Westminster Courthouse Library. \nMs. Finegan graduated from UBC in 2016 with a Master of Library and Information Studies. Since 2018\, Ms. Finegan has worked as a Client Services Librarian with CLBC\, assisting the public and the legal community with finding and using legal information. She has worked various jobs in the arts\, service industry\, and many things in between\, but her primary interest has always been to help people to navigate the barriers that stop them from accessing the information they need. \nTopic: \nThe panelists will be discussing about Tips and Tricks for Building a Resilient Legal Career. \nIn the last three years\, your legal career has survived a sudden shift to virtual work\, heat dome\, wildfires\, floods\, a frenzied housing market\, inflation\, and rising interest rates. \nHow can you prepare your career for the next threat? \nDuring this interactive workshop\, you will learn how to use legal research tools and collaborative problem-solving methods to create a more resilient practice. The panelists will introduce some of the resources at the Courthouse Library you can use to build a legal career that can withstand or recover quickly from difficult conditions. \nProfessional Development Credits: This course offers up to 2 hours of Professional Development Credits (See “How to get PD Credit” below). \nWhen: Wednesday\, March 29\, 2023 \nTime: Doors open at 4:30pm in the afternoon. Check–in is between 4:30pm and 5:00pm.\nFood and beverage will be available at 5:00pm. The program begins at 5:30pm and ends at 7:30pm. \nLocation: Barrister’s Lounge at the Victoria Law Courts – 850 Burdett Avenue\, Victoria\, BC\, V8W 1B4 \nCost: The cost of the event is $35.00 per person (includes food and beverage) paid to the “Victoria Bar Association” \nThere are two options to make payment: \n1. Pay online through the Inns of Court event page at www.Vicbar.ca (click link) \n2. Pay manually by sending a cheque to Anwar Mujtabah at:\nCrease Harman LLP\n800 – 1070 Douglas Street\nVictoria\, BC V8W 2C4\nPhone: 250-388-5421\, Ext. 114\nFax: 250.388.4294\nEmail: amujtabah@crease.com \nHow to get PD Credit \nTo get the 2 PD Credits\, this is the process after the event has completed: \na) Find Law Society “Member Services” \nb) Select “Member Portal” and enter your information \nc) ‘Login’ \nd) Under “Education” select “Continuing Professional Development (CPD)” \ne) Type the group study name of “Inns of Court” into the “Course/Group Study” name box (leave dates out as this is set up with a date range) \nf) In the Course/Group Study box type in ‘Inns of Court” \ng) From the Drop down menu select “Inns of Court – Victoria” \nh) Select “Inns of Court Victoria Court (36 Credits) Jan.1 – December 31\, 2023” or something similar as the name is undergoing a slight change \ni) DO NOT TYPE IN THE NAME OF THIS COURSE WHEN APPLYING FOR CREDITS. YOU WILL NOT FIND IT. YOU DO NOT NEED THE NAME IN ORDER TO CLAIM YOUR 2 HOURS OF CREDIT \nj) Under “Record your CPD hours” type ‘2’ \nk) Under “Completion Date” type in the date you took the course \nl) Select the “Get Credit” Button \nYou must be a member of the VBA to attend this event. To become a member\, see our registration page: https://vicbar.ca/membership-join/
URL:https://vicbar.ca/event/inns-of-court-tips-and-tricks-for-building-a-resilient-legal-career-march-29-2023/
LOCATION:Barrister’s Lounge – Victoria Law Courts\, 850 Burdett Avenue\, Victoria\, BC\, V8W 1B4\, Canada
ORGANIZER;CN="Anwar Mujtabah":MAILTO:amujtabah@crease.com
END:VEVENT
END:VCALENDAR