BEGIN:VCALENDAR
VERSION:2.0
PRODID:-//Victoria Bar Association - ECPv6.15.20//NONSGML v1.0//EN
CALSCALE:GREGORIAN
METHOD:PUBLISH
X-WR-CALNAME:Victoria Bar Association
X-ORIGINAL-URL:https://vicbar.ca
X-WR-CALDESC:Events for Victoria Bar Association
REFRESH-INTERVAL;VALUE=DURATION:PT1H
X-Robots-Tag:noindex
X-PUBLISHED-TTL:PT1H
BEGIN:VTIMEZONE
TZID:America/Vancouver
BEGIN:DAYLIGHT
TZOFFSETFROM:-0800
TZOFFSETTO:-0700
TZNAME:PDT
DTSTART:20230312T100000
END:DAYLIGHT
BEGIN:STANDARD
TZOFFSETFROM:-0700
TZOFFSETTO:-0800
TZNAME:PST
DTSTART:20231105T090000
END:STANDARD
BEGIN:DAYLIGHT
TZOFFSETFROM:-0800
TZOFFSETTO:-0700
TZNAME:PDT
DTSTART:20240310T100000
END:DAYLIGHT
BEGIN:STANDARD
TZOFFSETFROM:-0700
TZOFFSETTO:-0800
TZNAME:PST
DTSTART:20241103T090000
END:STANDARD
BEGIN:DAYLIGHT
TZOFFSETFROM:-0800
TZOFFSETTO:-0700
TZNAME:PDT
DTSTART:20250309T100000
END:DAYLIGHT
BEGIN:STANDARD
TZOFFSETFROM:-0700
TZOFFSETTO:-0800
TZNAME:PST
DTSTART:20251102T090000
END:STANDARD
END:VTIMEZONE
BEGIN:VEVENT
DTSTART;TZID=America/Vancouver:20240529T163000
DTEND;TZID=America/Vancouver:20240529T193000
DTSTAMP:20260423T033332
CREATED:20240429T182523Z
LAST-MODIFIED:20240510T165310Z
UID:10000127-1717000200-1717011000@vicbar.ca
SUMMARY:Inns of Court - Retiring as a Lawyer\, Part II: Investing Strategies
DESCRIPTION:In follow up to our Retirement on Trial Film Screening & Panel Discussion on March 27\, 2024\, the Inns of Court Victoria will be hosting a 2 hour in-person seminar on the topic of Investing Strategies for Retiring as a Lawyer. In the panel discussion at Retirement on Trial\, interest was expressed in a follow up session with on practical strategies for preparing\, as a lawyer\, for a good retirement\, including through investing. This seminar is organized in follow up to that event and interest in further learning on how to prepare to retire from a career as a lawyer. \nTheme: \nRetirement on Trial panel speaker F. Kenneth Walton\, K.C. (“Ken”)\, Pinder K. Cheema\, K.C.\, and Robyn Walle will conduct a seminar on self-directed stock investing as a method of funding your retirement. The seminar will be most beneficial to lawyers in their 30s and 40s who will not have a well-funded employer pension. This seminar will provide information that you are unlikely to find elsewhere. Topics include opening a self-directed account\, educating yourself on how the stock market works\, sources of information on stock selection\, their experience with the purchase and holding of US stocks\, dividends\, mutual funds\, and stock brokers. They have been successful in their own investing\, preparing themselves well for their own retirements. They are not seeking to manage your investments\, but are pleased to share their knowledge and experience to help you prepare for a good retirement. \nSpeakers: \nKen Walton has been a lawyer for more than 46 years. His areas of practice are wills and estates\, estate litigation\, Canada Pension Plan (CPP)\, and general litigation. From 2005 to 2008 Ken served as Chair of a Canada Pension Plan Review Tribunal to decide cases of entitlement to disability benefits\, CPP pension credit splitting\, and survivor’s benefits. Ken has authored several papers on CPP Disability Benefits for “The Verdict”\, a magazine for Trial Lawyers in BC\, and was a Continuing Legal Education speaker on the same. \nPinder Cheema has served as both a Crown counsel and private practitioner in BC since 1984. She is a life bencher of the Law Society of BC. She has served a number of organizations in the legal community\, including the Credentials Committee\, the Governance Committee\, Anti-Money Laundering Working Group\, Canadian Bar Association Women Rainmakers and South Asian Bar\, amongst many others. She has been a sessional lecturer\, mock trial judge\, and a principal to articled students. Pinder has been a stock investor since 1975\, and a self-directed investor since 2000. She is happy to share her knowledge and experience in this area. \nRobyn Walle is a Chartered Accountant and Principal with Baker Tilly Victoria. She assists owner-manager businesses with meeting their tax and accounting requirements. She oversees clients with audit or review requirements and provides personal\, estate\, and trust taxation services. Robyn serves on the board and has been appointed as a Treasurer of the Better Business Bureau in Victoria for several years. She brings her comprehensive knowledge on meeting tax and accounting requirements as they relate to investments and will provide valuable insight into recent changes in capital gains tax. \nContinuing Professional Development Credits: \n\nThis course offers up to 2 hours of Continuing Professional Development Credits (See “How to get CPD Credit” below).\n\nDate: \n\nWednesday\, May 29\, 2024\n\nTime: \n\nDoors open at 4:30pm.\nCheck–in is between 5:00pm and 5:30pm. Participants mingle and enjoy refreshments between when doors open.\nThe program begins at 5:30pm and ends at 7:30pm.\n\nLocation: \n\nThe Bent Mast\n\nCost: \n\nThe cost of the event is $55.00 per person (includes dinner).\n\nHow to make your payment: \n\nPay online through this page if possible\nIf that is not possible\, pay manually by cheque (paid to the “Victoria Bar Association”) by bringing it to Jacquie Miller at the event or mailing it in advance of the event to Jacquie Miller at:\n\nSequoia Legal LLP\n200 – 736 Broughton Street\nVictoria\, BC V8W 1E1\nEmail: jacquelyn@sequoialegal.ca\nPhone: 250-419-8288\n\n\n\nHow to get CPD Credit: \n\nTo get the 2 CPD Credits\, this is the process after the event has been completed:\nFind Law Society “Member Services”\nSelect “Member Portal” and enter your information\n‘Login’\nUnder “Education” select “Continuing Professional Development (CPD)”\nType the group study name of “Inns of Court” into the “Course/Group Study” name box (leave dates out as this is set up with a date range)\nIn the Course/Group Study box type in ‘Inns of Court”\nFrom the Drop down menu select “Inns of Court – Victoria”\nSelect “Inns of Court Victoria Court (36 Credits) Jan.1 – December 31\, 2024” or something similar as the name is undergoing a slight change\nDO NOT TYPE IN THE NAME OF THIS COURSE WHEN APPLYING FOR CREDITS. YOU WILL NOT FIND IT. YOU DO NOT NEED THE NAME IN ORDER TO CLAIM YOUR 2 HOURS OF CREDIT\nUnder “Record your CPD hours” type ‘2’\nUnder “Completion Date” type in the date you took the course\nSelect the “Get Credit” Button\n\nYou must be a member of the VBA to attend this event. To become a member\, see our registration page: https://vicbar.ca/membership-join/
URL:https://vicbar.ca/event/inns-of-court-retiring-as-a-lawyer-part-ii-investing-strategies/
LOCATION:The Bent Mast\, 512 Simcoe St\, Victoria\, BC\, V8V 1L8\, Canada
ORGANIZER;CN="Jacquie Miller":MAILTO:jmiller@crease.com
END:VEVENT
END:VCALENDAR